BEGIN:VCALENDAR
VERSION:2.0
PRODID:-//University of Colombo Institute of Agro - Technology and Rural Sciences (UCIARS)
CALSCALE:GREGORIAN
METHOD:PUBLISH
X-WR-CALNAME:University of Colombo Institute of Agro - Technology and Rural Sciences (UCIARS)
X-ORIGINAL-URL:https://uciars.cmb.ac.lk/event/ismfmap-2019/
X-WR-CALDESC:ISMFM&#038;AP 2019 &#8211; INTERNATIONAL SYMPOSIUM
BEGIN:VEVENT
DTSTART:20190904T000000
DTEND:20190906T000000
SUMMARY:ISMFM&#038;AP 2019 &#8211; INTERNATIONAL SYMPOSIUM
DESCRIPTION:
LOCATION:Adress: New town, Weligatta, Hambantota  Country: Srilanka - Asia  
END:VEVENT
END:VCALENDAR
